BEGIN:VCALENDAR
VERSION:2.0
PRODID:-//Community Food Pantry in Tool - ECPv6.15.20//NONSGML v1.0//EN
CALSCALE:GREGORIAN
METHOD:PUBLISH
X-WR-CALNAME:Community Food Pantry in Tool
X-ORIGINAL-URL:https://foodpantryintool.org
X-WR-CALDESC:Events for Community Food Pantry in Tool
REFRESH-INTERVAL;VALUE=DURATION:PT1H
X-Robots-Tag:noindex
X-PUBLISHED-TTL:PT1H
BEGIN:VTIMEZONE
TZID:UTC
BEGIN:STANDARD
TZOFFSETFROM:+0000
TZOFFSETTO:+0000
TZNAME:UTC
DTSTART:20230101T000000
END:STANDARD
END:VTIMEZONE
BEGIN:VEVENT
DTSTART;VALUE=DATE:20241225
DTEND;VALUE=DATE:20241226
DTSTAMP:20260420T100523
CREATED:20240411T185927Z
LAST-MODIFIED:20240510T085854Z
UID:4548-1735084800-1735171199@foodpantryintool.org
SUMMARY:WEDNESDAY CLOSED - CHRISTMAS
DESCRIPTION:
URL:https://foodpantryintool.org/event/closed-christmas-3/
END:VEVENT
END:VCALENDAR