BEGIN:VCALENDAR
VERSION:2.0
PRODID:-//Community Food Pantry in Tool - ECPv6.15.20//NONSGML v1.0//EN
CALSCALE:GREGORIAN
METHOD:PUBLISH
X-WR-CALNAME:Community Food Pantry in Tool
X-ORIGINAL-URL:https://foodpantryintool.org
X-WR-CALDESC:Events for Community Food Pantry in Tool
REFRESH-INTERVAL;VALUE=DURATION:PT1H
X-Robots-Tag:noindex
X-PUBLISHED-TTL:PT1H
BEGIN:VTIMEZONE
TZID:UTC
BEGIN:STANDARD
TZOFFSETFROM:+0000
TZOFFSETTO:+0000
TZNAME:UTC
DTSTART:20220101T000000
END:STANDARD
END:VTIMEZONE
BEGIN:VEVENT
DTSTART;TZID=UTC:20240108T090000
DTEND;TZID=UTC:20240108T120000
DTSTAMP:20260420T050846
CREATED:20240405T094903Z
LAST-MODIFIED:20240717T020044Z
UID:3799-1704704400-1704715200@foodpantryintool.org
SUMMARY:MONDAY OPEN 9:00 - 12:00
DESCRIPTION:
URL:https://foodpantryintool.org/event/monday/
END:VEVENT
BEGIN:VEVENT
DTSTART;VALUE=DATE:20240107
DTEND;VALUE=DATE:20240108
DTSTAMP:20260420T050846
CREATED:20240405T094903Z
LAST-MODIFIED:20240511T040809Z
UID:3798-1704585600-1704671999@foodpantryintool.org
SUMMARY:SUNDAY PANTRY CLOSED
DESCRIPTION:
URL:https://foodpantryintool.org/event/sunday/
END:VEVENT
BEGIN:VEVENT
DTSTART;VALUE=DATE:20240106
DTEND;VALUE=DATE:20240107
DTSTAMP:20260420T050846
CREATED:20240405T094901Z
LAST-MODIFIED:20240511T040824Z
UID:3797-1704499200-1704585599@foodpantryintool.org
SUMMARY:SATURDAY PANTRY CLOSED
DESCRIPTION:
URL:https://foodpantryintool.org/event/saturday/
END:VEVENT
BEGIN:VEVENT
DTSTART;TZID=UTC:20240105T090000
DTEND;TZID=UTC:20240105T120000
DTSTAMP:20260420T050846
CREATED:20240405T094901Z
LAST-MODIFIED:20240717T015910Z
UID:3796-1704445200-1704456000@foodpantryintool.org
SUMMARY:FRIDAY OPEN 9:00 - 12:00
DESCRIPTION:
URL:https://foodpantryintool.org/event/friday/
END:VEVENT
BEGIN:VEVENT
DTSTART;VALUE=DATE:20240104
DTEND;VALUE=DATE:20240105
DTSTAMP:20260420T050846
CREATED:20240405T094901Z
LAST-MODIFIED:20240511T040852Z
UID:3795-1704326400-1704412799@foodpantryintool.org
SUMMARY:THURSDAY PANTRY CLOSED
DESCRIPTION:
URL:https://foodpantryintool.org/event/thursday/
END:VEVENT
BEGIN:VEVENT
DTSTART;TZID=UTC:20240103T090000
DTEND;TZID=UTC:20240103T120000
DTSTAMP:20260420T050846
CREATED:20240405T094901Z
LAST-MODIFIED:20240716T101206Z
UID:3794-1704272400-1704283200@foodpantryintool.org
SUMMARY:WEDNESDAY OPEN 9:00 - 12:00
DESCRIPTION:
URL:https://foodpantryintool.org/event/wednesday/
END:VEVENT
BEGIN:VEVENT
DTSTART;VALUE=DATE:20240102
DTEND;VALUE=DATE:20240103
DTSTAMP:20260420T050846
CREATED:20240405T094900Z
LAST-MODIFIED:20240511T040920Z
UID:3793-1704153600-1704239999@foodpantryintool.org
SUMMARY:TUESDAY  PANTRY CLOSED
DESCRIPTION:
URL:https://foodpantryintool.org/event/tuesday/
END:VEVENT
BEGIN:VEVENT
DTSTART;VALUE=DATE:20240101
DTEND;VALUE=DATE:20240102
DTSTAMP:20260420T050846
CREATED:20221118T115108Z
LAST-MODIFIED:20240511T040936Z
UID:3273-1704067200-1704153599@foodpantryintool.org
SUMMARY:MONDAY PANTRY CLOSED
DESCRIPTION:
URL:https://foodpantryintool.org/event/pantry-closed-15/
END:VEVENT
BEGIN:VEVENT
DTSTART;TZID=UTC:20231229T090000
DTEND;TZID=UTC:20231229T123000
DTSTAMP:20260420T050846
CREATED:20221119T101442Z
LAST-MODIFIED:20221119T101442Z
UID:3483-1703840400-1703853000@foodpantryintool.org
SUMMARY:PANTRY OPEN 9:00am-12:30pm
DESCRIPTION:
URL:https://foodpantryintool.org/event/pantry-open-900am-1230pm/
END:VEVENT
BEGIN:VEVENT
DTSTART;TZID=UTC:20231227T090000
DTEND;TZID=UTC:20231227T123000
DTSTAMP:20260420T050846
CREATED:20221119T104356Z
LAST-MODIFIED:20221119T104356Z
UID:3652-1703667600-1703680200@foodpantryintool.org
SUMMARY:PANTRY OPEN 9:00am-12:30pm
DESCRIPTION:
URL:https://foodpantryintool.org/event/pantry-open-900am-1230pm-35/
END:VEVENT
BEGIN:VEVENT
DTSTART;VALUE=DATE:20231225
DTEND;VALUE=DATE:20231226
DTSTAMP:20260420T050846
CREATED:20221118T115024Z
LAST-MODIFIED:20221118T115024Z
UID:3271-1703462400-1703548799@foodpantryintool.org
SUMMARY:PANTRY CLOSED
DESCRIPTION:
URL:https://foodpantryintool.org/event/pantry-closed-14/
END:VEVENT
BEGIN:VEVENT
DTSTART;TZID=UTC:20231222T090000
DTEND;TZID=UTC:20231222T123000
DTSTAMP:20260420T050846
CREATED:20221119T104506Z
LAST-MODIFIED:20221119T104506Z
UID:3660-1703235600-1703248200@foodpantryintool.org
SUMMARY:PANTRY OPEN 9:00am-12:30pm
DESCRIPTION:
URL:https://foodpantryintool.org/event/pantry-open-900am-1230pm-41/
END:VEVENT
BEGIN:VEVENT
DTSTART;TZID=UTC:20231220T090000
DTEND;TZID=UTC:20231220T123000
DTSTAMP:20260420T050846
CREATED:20221119T104525Z
LAST-MODIFIED:20221119T104525Z
UID:3661-1703062800-1703075400@foodpantryintool.org
SUMMARY:PANTRY OPEN 9:00am-12:30pm
DESCRIPTION:
URL:https://foodpantryintool.org/event/pantry-open-900am-1230pm-42/
END:VEVENT
BEGIN:VEVENT
DTSTART;TZID=UTC:20231218T090000
DTEND;TZID=UTC:20231218T123000
DTSTAMP:20260420T050846
CREATED:20221119T104545Z
LAST-MODIFIED:20221119T104545Z
UID:3662-1702890000-1702902600@foodpantryintool.org
SUMMARY:PANTRY OPEN 9:00am-12:30pm
DESCRIPTION:
URL:https://foodpantryintool.org/event/pantry-open-900am-1230pm-43/
END:VEVENT
BEGIN:VEVENT
DTSTART;TZID=UTC:20231215T090000
DTEND;TZID=UTC:20231215T123000
DTSTAMP:20260420T050846
CREATED:20221119T104724Z
LAST-MODIFIED:20221119T104724Z
UID:3683-1702630800-1702643400@foodpantryintool.org
SUMMARY:PANTRY OPEN 9:00am-12:30pm
DESCRIPTION:
URL:https://foodpantryintool.org/event/pantry-open-900am-1230pm-44/
END:VEVENT
BEGIN:VEVENT
DTSTART;TZID=UTC:20231213T090000
DTEND;TZID=UTC:20231213T123000
DTSTAMP:20260420T050846
CREATED:20221119T110003Z
LAST-MODIFIED:20221119T110003Z
UID:3717-1702458000-1702470600@foodpantryintool.org
SUMMARY:PANTRY OPEN 9:00am-12:30pm
DESCRIPTION:
URL:https://foodpantryintool.org/event/pantry-open-900am-1230pm-69/
END:VEVENT
BEGIN:VEVENT
DTSTART;TZID=UTC:20231211T090000
DTEND;TZID=UTC:20231211T123000
DTSTAMP:20260420T050846
CREATED:20221119T110101Z
LAST-MODIFIED:20221119T110101Z
UID:3719-1702285200-1702297800@foodpantryintool.org
SUMMARY:PANTRY OPEN 9:00am-12:30pm
DESCRIPTION:
URL:https://foodpantryintool.org/event/pantry-open-900am-1230pm-71/
END:VEVENT
BEGIN:VEVENT
DTSTART;TZID=UTC:20231208T090000
DTEND;TZID=UTC:20231208T123000
DTSTAMP:20260420T050846
CREATED:20221119T110227Z
LAST-MODIFIED:20221119T110227Z
UID:3733-1702026000-1702038600@foodpantryintool.org
SUMMARY:PANTRY OPEN 9:00am-12:30pm
DESCRIPTION:
URL:https://foodpantryintool.org/event/pantry-open-900am-1230pm-75/
END:VEVENT
BEGIN:VEVENT
DTSTART;TZID=UTC:20231206T090000
DTEND;TZID=UTC:20231206T123000
DTSTAMP:20260420T050846
CREATED:20221119T110211Z
LAST-MODIFIED:20221119T110211Z
UID:3732-1701853200-1701865800@foodpantryintool.org
SUMMARY:PANTRY OPEN 9:00am-12:30pm
DESCRIPTION:
URL:https://foodpantryintool.org/event/pantry-open-900am-1230pm-74/
END:VEVENT
BEGIN:VEVENT
DTSTART;VALUE=DATE:20231206
DTEND;VALUE=DATE:20231207
DTSTAMP:20260420T050846
CREATED:20221118T113018Z
LAST-MODIFIED:20221118T113018Z
UID:3255-1701820800-1701907199@foodpantryintool.org
SUMMARY:Board of Directors Meeting 2:00 p.m.
DESCRIPTION:
URL:https://foodpantryintool.org/event/board-of-directors-meeting-200-p-m-2/
END:VEVENT
BEGIN:VEVENT
DTSTART;TZID=UTC:20231204T090000
DTEND;TZID=UTC:20231204T123000
DTSTAMP:20260420T050846
CREATED:20221119T110154Z
LAST-MODIFIED:20221119T110154Z
UID:3731-1701680400-1701693000@foodpantryintool.org
SUMMARY:PANTRY OPEN 9:00am-12:30pm
DESCRIPTION:
URL:https://foodpantryintool.org/event/pantry-open-900am-1230pm-73/
END:VEVENT
BEGIN:VEVENT
DTSTART;TZID=UTC:20231201T090000
DTEND;TZID=UTC:20231201T123000
DTSTAMP:20260420T050846
CREATED:20221119T110134Z
LAST-MODIFIED:20221119T110134Z
UID:3730-1701421200-1701433800@foodpantryintool.org
SUMMARY:PANTRY OPEN 9:00am-12:30pm
DESCRIPTION:
URL:https://foodpantryintool.org/event/pantry-open-900am-1230pm-72/
END:VEVENT
BEGIN:VEVENT
DTSTART;TZID=UTC:20231129T090000
DTEND;TZID=UTC:20231129T123000
DTSTAMP:20260420T050846
CREATED:20221119T110001Z
LAST-MODIFIED:20221119T110013Z
UID:3711-1701248400-1701261000@foodpantryintool.org
SUMMARY:PANTRY OPEN 9:00am-12:30pm
DESCRIPTION:
URL:https://foodpantryintool.org/event/pantry-open-900am-1230pm-68/
END:VEVENT
BEGIN:VEVENT
DTSTART;TZID=UTC:20231127T090000
DTEND;TZID=UTC:20231127T123000
DTSTAMP:20260420T050846
CREATED:20221119T105957Z
LAST-MODIFIED:20221119T110023Z
UID:3710-1701075600-1701088200@foodpantryintool.org
SUMMARY:PANTRY OPEN 9:00am-12:30pm
DESCRIPTION:
URL:https://foodpantryintool.org/event/pantry-open-900am-1230pm-67/
END:VEVENT
BEGIN:VEVENT
DTSTART;VALUE=DATE:20231124
DTEND;VALUE=DATE:20231125
DTSTAMP:20260420T050846
CREATED:20221118T114813Z
LAST-MODIFIED:20221118T114813Z
UID:3269-1700784000-1700870399@foodpantryintool.org
SUMMARY:PANTRY CLOSED
DESCRIPTION:
URL:https://foodpantryintool.org/event/pantry-closed-13/
END:VEVENT
BEGIN:VEVENT
DTSTART;TZID=UTC:20231122T090000
DTEND;TZID=UTC:20231122T123000
DTSTAMP:20260420T050846
CREATED:20221119T105954Z
LAST-MODIFIED:20221119T105954Z
UID:3709-1700643600-1700656200@foodpantryintool.org
SUMMARY:PANTRY OPEN 9:00am-12:30pm
DESCRIPTION:
URL:https://foodpantryintool.org/event/pantry-open-900am-1230pm-66/
END:VEVENT
BEGIN:VEVENT
DTSTART;TZID=UTC:20231120T090000
DTEND;TZID=UTC:20231120T123000
DTSTAMP:20260420T050846
CREATED:20221119T105950Z
LAST-MODIFIED:20221119T105950Z
UID:3708-1700470800-1700483400@foodpantryintool.org
SUMMARY:PANTRY OPEN 9:00am-12:30pm
DESCRIPTION:
URL:https://foodpantryintool.org/event/pantry-open-900am-1230pm-65/
END:VEVENT
BEGIN:VEVENT
DTSTART;TZID=UTC:20231117T090000
DTEND;TZID=UTC:20231117T123000
DTSTAMP:20260420T050846
CREATED:20221119T105941Z
LAST-MODIFIED:20221119T105941Z
UID:3707-1700211600-1700224200@foodpantryintool.org
SUMMARY:PANTRY OPEN 9:00am-12:30pm
DESCRIPTION:
URL:https://foodpantryintool.org/event/pantry-open-900am-1230pm-64/
END:VEVENT
BEGIN:VEVENT
DTSTART;TZID=UTC:20231115T090000
DTEND;TZID=UTC:20231115T123000
DTSTAMP:20260420T050846
CREATED:20221119T105939Z
LAST-MODIFIED:20221119T105939Z
UID:3706-1700038800-1700051400@foodpantryintool.org
SUMMARY:PANTRY OPEN 9:00am-12:30pm
DESCRIPTION:
URL:https://foodpantryintool.org/event/pantry-open-900am-1230pm-63/
END:VEVENT
BEGIN:VEVENT
DTSTART;TZID=UTC:20231113T090000
DTEND;TZID=UTC:20231113T123000
DTSTAMP:20260420T050846
CREATED:20221119T105935Z
LAST-MODIFIED:20221119T105935Z
UID:3705-1699866000-1699878600@foodpantryintool.org
SUMMARY:PANTRY OPEN 9:00am-12:30pm
DESCRIPTION:
URL:https://foodpantryintool.org/event/pantry-open-900am-1230pm-62/
END:VEVENT
END:VCALENDAR