BEGIN:VCALENDAR
VERSION:2.0
PRODID:-//Community Food Pantry in Tool - ECPv6.15.20//NONSGML v1.0//EN
CALSCALE:GREGORIAN
METHOD:PUBLISH
X-WR-CALNAME:Community Food Pantry in Tool
X-ORIGINAL-URL:https://foodpantryintool.org
X-WR-CALDESC:Events for Community Food Pantry in Tool
REFRESH-INTERVAL;VALUE=DURATION:PT1H
X-Robots-Tag:noindex
X-PUBLISHED-TTL:PT1H
BEGIN:VTIMEZONE
TZID:UTC
BEGIN:STANDARD
TZOFFSETFROM:+0000
TZOFFSETTO:+0000
TZNAME:UTC
DTSTART:20220101T000000
END:STANDARD
END:VTIMEZONE
BEGIN:VEVENT
DTSTART;TZID=UTC:20230414T090000
DTEND;TZID=UTC:20230414T123000
DTSTAMP:20260420T163210
CREATED:20221119T080528Z
LAST-MODIFIED:20221119T103411Z
UID:3375-1681462800-1681475400@foodpantryintool.org
SUMMARY:PANTRY OPEN 9:00am-12:30pm
DESCRIPTION:
URL:https://foodpantryintool.org/event/pantry-open-930am-1230pm-44/
END:VEVENT
BEGIN:VEVENT
DTSTART;TZID=UTC:20230412T090000
DTEND;TZID=UTC:20230412T123000
DTSTAMP:20260420T163210
CREATED:20221119T080510Z
LAST-MODIFIED:20221119T103405Z
UID:3373-1681290000-1681302600@foodpantryintool.org
SUMMARY:PANTRY OPEN 9:00am-12:30pm
DESCRIPTION:
URL:https://foodpantryintool.org/event/pantry-open-930am-1230pm-43/
END:VEVENT
BEGIN:VEVENT
DTSTART;TZID=UTC:20230410T090000
DTEND;TZID=UTC:20230410T123000
DTSTAMP:20260420T163210
CREATED:20221119T080440Z
LAST-MODIFIED:20221119T103400Z
UID:3371-1681117200-1681129800@foodpantryintool.org
SUMMARY:PANTRY OPEN 9:00am-12:30pm
DESCRIPTION:
URL:https://foodpantryintool.org/event/pantry-open-930am-1230pm-42/
END:VEVENT
BEGIN:VEVENT
DTSTART;TZID=UTC:20230407T090000
DTEND;TZID=UTC:20230407T123000
DTSTAMP:20260420T163210
CREATED:20221119T080352Z
LAST-MODIFIED:20221119T103353Z
UID:3369-1680858000-1680870600@foodpantryintool.org
SUMMARY:PANTRY OPEN 9:00am-12:30pm
DESCRIPTION:
URL:https://foodpantryintool.org/event/pantry-open-930am-1230pm-41/
END:VEVENT
BEGIN:VEVENT
DTSTART;TZID=UTC:20230405T090000
DTEND;TZID=UTC:20230405T123000
DTSTAMP:20260420T163210
CREATED:20221119T080318Z
LAST-MODIFIED:20221119T103346Z
UID:3367-1680685200-1680697800@foodpantryintool.org
SUMMARY:PANTRY OPEN 9:00am-12:30pm
DESCRIPTION:
URL:https://foodpantryintool.org/event/pantry-open-930am-1230pm-40/
END:VEVENT
BEGIN:VEVENT
DTSTART;TZID=UTC:20230403T090000
DTEND;TZID=UTC:20230403T123000
DTSTAMP:20260420T163210
CREATED:20221119T080250Z
LAST-MODIFIED:20221119T103301Z
UID:3365-1680512400-1680525000@foodpantryintool.org
SUMMARY:PANTRY OPEN 9:00am-12:30pm
DESCRIPTION:
URL:https://foodpantryintool.org/event/pantry-open-930am-1230pm-39/
END:VEVENT
BEGIN:VEVENT
DTSTART;TZID=UTC:20230331T090000
DTEND;TZID=UTC:20230331T123000
DTSTAMP:20260420T163210
CREATED:20221119T080156Z
LAST-MODIFIED:20221119T103044Z
UID:3363-1680253200-1680265800@foodpantryintool.org
SUMMARY:PANTRY OPEN 9:00am-12:30pm
DESCRIPTION:
URL:https://foodpantryintool.org/event/pantry-open-930am-1230pm-38/
END:VEVENT
BEGIN:VEVENT
DTSTART;TZID=UTC:20230329T090000
DTEND;TZID=UTC:20230329T123000
DTSTAMP:20260420T163210
CREATED:20221119T080127Z
LAST-MODIFIED:20221119T103036Z
UID:3361-1680080400-1680093000@foodpantryintool.org
SUMMARY:PANTRY OPEN 9:00am-12:30pm
DESCRIPTION:
URL:https://foodpantryintool.org/event/pantry-open-930am-1230pm-37/
END:VEVENT
BEGIN:VEVENT
DTSTART;TZID=UTC:20230327T090000
DTEND;TZID=UTC:20230327T123000
DTSTAMP:20260420T163210
CREATED:20221119T080052Z
LAST-MODIFIED:20221119T103027Z
UID:3358-1679907600-1679920200@foodpantryintool.org
SUMMARY:PANTRY OPEN 9:00am-12:30pm
DESCRIPTION:
URL:https://foodpantryintool.org/event/pantry-open-930am-1230pm-36/
END:VEVENT
BEGIN:VEVENT
DTSTART;TZID=UTC:20230324T090000
DTEND;TZID=UTC:20230324T123000
DTSTAMP:20260420T163210
CREATED:20221119T075813Z
LAST-MODIFIED:20221119T103013Z
UID:3356-1679648400-1679661000@foodpantryintool.org
SUMMARY:PANTRY OPEN 9:00am-12:30pm
DESCRIPTION:
URL:https://foodpantryintool.org/event/pantry-open-930am-1230pm-35/
END:VEVENT
BEGIN:VEVENT
DTSTART;TZID=UTC:20230322T090000
DTEND;TZID=UTC:20230322T123000
DTSTAMP:20260420T163210
CREATED:20221119T075721Z
LAST-MODIFIED:20221119T103000Z
UID:3354-1679475600-1679488200@foodpantryintool.org
SUMMARY:PANTRY OPEN 9:00am-12:30pm
DESCRIPTION:
URL:https://foodpantryintool.org/event/pantry-open-930am-1230pm-34/
END:VEVENT
BEGIN:VEVENT
DTSTART;TZID=UTC:20230320T090000
DTEND;TZID=UTC:20230320T123000
DTSTAMP:20260420T163210
CREATED:20221119T075435Z
LAST-MODIFIED:20221119T102947Z
UID:3352-1679302800-1679315400@foodpantryintool.org
SUMMARY:PANTRY OPEN 9:00am-12:30pm
DESCRIPTION:
URL:https://foodpantryintool.org/event/pantry-open-930am-1230pm-33/
END:VEVENT
BEGIN:VEVENT
DTSTART;TZID=UTC:20230317T090000
DTEND;TZID=UTC:20230317T123000
DTSTAMP:20260420T163210
CREATED:20221119T075338Z
LAST-MODIFIED:20221119T102935Z
UID:3350-1679043600-1679056200@foodpantryintool.org
SUMMARY:PANTRY OPEN 9:00am-12:30pm
DESCRIPTION:
URL:https://foodpantryintool.org/event/pantry-open-930am-1230pm-32/
END:VEVENT
BEGIN:VEVENT
DTSTART;TZID=UTC:20230315T090000
DTEND;TZID=UTC:20230315T123000
DTSTAMP:20260420T163210
CREATED:20221119T073635Z
LAST-MODIFIED:20221119T102854Z
UID:3347-1678870800-1678883400@foodpantryintool.org
SUMMARY:PANTRY OPEN 9:00am-12:30pm
DESCRIPTION:
URL:https://foodpantryintool.org/event/pantry-open-930am-1230pm-31/
END:VEVENT
BEGIN:VEVENT
DTSTART;TZID=UTC:20230313T090000
DTEND;TZID=UTC:20230313T123000
DTSTAMP:20260420T163210
CREATED:20221119T073553Z
LAST-MODIFIED:20221119T102830Z
UID:3345-1678698000-1678710600@foodpantryintool.org
SUMMARY:PANTRY OPEN 9:00am-12:30pm
DESCRIPTION:
URL:https://foodpantryintool.org/event/pantry-open-930am-1230pm-30/
END:VEVENT
BEGIN:VEVENT
DTSTART;TZID=UTC:20230310T090000
DTEND;TZID=UTC:20230310T123000
DTSTAMP:20260420T163210
CREATED:20221119T072307Z
LAST-MODIFIED:20221119T102819Z
UID:3343-1678438800-1678451400@foodpantryintool.org
SUMMARY:PANTRY OPEN 9:00am-12:30pm
DESCRIPTION:
URL:https://foodpantryintool.org/event/pantry-open-930am-1230pm-29/
END:VEVENT
BEGIN:VEVENT
DTSTART;TZID=UTC:20230308T090000
DTEND;TZID=UTC:20230308T123000
DTSTAMP:20260420T163210
CREATED:20221119T072232Z
LAST-MODIFIED:20221119T102805Z
UID:3341-1678266000-1678278600@foodpantryintool.org
SUMMARY:PANTRY OPEN 9:00am-12:30pm
DESCRIPTION:
URL:https://foodpantryintool.org/event/pantry-open-930am-1230pm-28/
END:VEVENT
BEGIN:VEVENT
DTSTART;TZID=UTC:20230306T090000
DTEND;TZID=UTC:20230306T123000
DTSTAMP:20260420T163210
CREATED:20221119T072204Z
LAST-MODIFIED:20221119T102752Z
UID:3339-1678093200-1678105800@foodpantryintool.org
SUMMARY:PANTRY OPEN 9:00am-12:30pm
DESCRIPTION:
URL:https://foodpantryintool.org/event/pantry-open-930am-1230pm-27/
END:VEVENT
BEGIN:VEVENT
DTSTART;TZID=UTC:20230303T090000
DTEND;TZID=UTC:20230303T123000
DTSTAMP:20260420T163210
CREATED:20221119T072130Z
LAST-MODIFIED:20221119T102737Z
UID:3337-1677834000-1677846600@foodpantryintool.org
SUMMARY:PANTRY OPEN 9:00am-12:30pm
DESCRIPTION:
URL:https://foodpantryintool.org/event/pantry-open-930am-1230pm-26/
END:VEVENT
BEGIN:VEVENT
DTSTART;TZID=UTC:20230301T090000
DTEND;TZID=UTC:20230301T123000
DTSTAMP:20260420T163210
CREATED:20221119T070356Z
LAST-MODIFIED:20221119T102722Z
UID:3335-1677661200-1677673800@foodpantryintool.org
SUMMARY:PANTRY OPEN 9:00am-12:30pm
DESCRIPTION:
URL:https://foodpantryintool.org/event/pantry-open-930am-1230pm-25/
END:VEVENT
BEGIN:VEVENT
DTSTART;TZID=UTC:20230227T090000
DTEND;TZID=UTC:20230227T123000
DTSTAMP:20260420T163210
CREATED:20221119T065552Z
LAST-MODIFIED:20221119T102427Z
UID:3333-1677488400-1677501000@foodpantryintool.org
SUMMARY:PANTRY OPEN 9:00am-12:30pm
DESCRIPTION:
URL:https://foodpantryintool.org/event/pantry-open-930am-1230pm-24/
END:VEVENT
BEGIN:VEVENT
DTSTART;TZID=UTC:20230224T090000
DTEND;TZID=UTC:20230224T123000
DTSTAMP:20260420T163210
CREATED:20221119T065446Z
LAST-MODIFIED:20221119T102552Z
UID:3331-1677229200-1677241800@foodpantryintool.org
SUMMARY:PANTRY OPEN 9:00am-12:30pm
DESCRIPTION:
URL:https://foodpantryintool.org/event/pantry-open-930am-1230pm-23/
END:VEVENT
BEGIN:VEVENT
DTSTART;TZID=UTC:20230222T090000
DTEND;TZID=UTC:20230222T123000
DTSTAMP:20260420T163210
CREATED:20221119T063630Z
LAST-MODIFIED:20221119T102343Z
UID:3328-1677056400-1677069000@foodpantryintool.org
SUMMARY:PANTRY OPEN 9:00am-12:30pm
DESCRIPTION:
URL:https://foodpantryintool.org/event/pantry-open-930am-1230pm-22/
END:VEVENT
BEGIN:VEVENT
DTSTART;TZID=UTC:20230220T090000
DTEND;TZID=UTC:20230220T123000
DTSTAMP:20260420T163210
CREATED:20221119T063607Z
LAST-MODIFIED:20221119T102326Z
UID:3326-1676883600-1676896200@foodpantryintool.org
SUMMARY:PANTRY OPEN 9:00am-12:30pm
DESCRIPTION:
URL:https://foodpantryintool.org/event/pantry-open-930am-1230pm-21/
END:VEVENT
BEGIN:VEVENT
DTSTART;TZID=UTC:20230217T090000
DTEND;TZID=UTC:20230217T123000
DTSTAMP:20260420T163210
CREATED:20221119T062831Z
LAST-MODIFIED:20221119T102300Z
UID:3324-1676624400-1676637000@foodpantryintool.org
SUMMARY:PANTRY OPEN 9:00am-12:30pm
DESCRIPTION:
URL:https://foodpantryintool.org/event/pantry-open-930am-1230pm-20/
END:VEVENT
BEGIN:VEVENT
DTSTART;TZID=UTC:20230215T090000
DTEND;TZID=UTC:20230215T123000
DTSTAMP:20260420T163210
CREATED:20221119T062545Z
LAST-MODIFIED:20221119T102237Z
UID:3322-1676451600-1676464200@foodpantryintool.org
SUMMARY:PANTRY OPEN 9:00am-12:30pm
DESCRIPTION:
URL:https://foodpantryintool.org/event/pantry-open-930am-1230pm-19/
END:VEVENT
BEGIN:VEVENT
DTSTART;TZID=UTC:20230213T090000
DTEND;TZID=UTC:20230213T123000
DTSTAMP:20260420T163210
CREATED:20221119T061933Z
LAST-MODIFIED:20221119T102222Z
UID:3320-1676278800-1676291400@foodpantryintool.org
SUMMARY:PANTRY OPEN 9:00am-12:30pm
DESCRIPTION:
URL:https://foodpantryintool.org/event/we-open-930am-1230pm/
END:VEVENT
BEGIN:VEVENT
DTSTART;TZID=UTC:20230210T090000
DTEND;TZID=UTC:20230210T123000
DTSTAMP:20260420T163210
CREATED:20221119T061837Z
LAST-MODIFIED:20221119T102053Z
UID:3318-1676019600-1676032200@foodpantryintool.org
SUMMARY:PANTRY OPEN 9:00am-12:30pm
DESCRIPTION:
URL:https://foodpantryintool.org/event/pantry-open-930am-1230pm-18/
END:VEVENT
BEGIN:VEVENT
DTSTART;TZID=UTC:20230208T090000
DTEND;TZID=UTC:20230208T123000
DTSTAMP:20260420T163210
CREATED:20221119T061735Z
LAST-MODIFIED:20221119T102030Z
UID:3316-1675846800-1675859400@foodpantryintool.org
SUMMARY:PANTRY OPEN 9:00am-12:30pm
DESCRIPTION:
URL:https://foodpantryintool.org/event/pantry-open-930am-1230pm-17/
END:VEVENT
BEGIN:VEVENT
DTSTART;TZID=UTC:20230206T090000
DTEND;TZID=UTC:20230206T123000
DTSTAMP:20260420T163210
CREATED:20221119T061626Z
LAST-MODIFIED:20221119T101945Z
UID:3314-1675674000-1675686600@foodpantryintool.org
SUMMARY:PANTRY OPEN 9:00am-12:30pm
DESCRIPTION:
URL:https://foodpantryintool.org/event/pantry-open-930am-1230pm-16/
END:VEVENT
END:VCALENDAR