BEGIN:VCALENDAR
VERSION:2.0
PRODID:-//Community Food Pantry in Tool - ECPv6.15.20//NONSGML v1.0//EN
CALSCALE:GREGORIAN
METHOD:PUBLISH
X-WR-CALNAME:Community Food Pantry in Tool
X-ORIGINAL-URL:https://foodpantryintool.org
X-WR-CALDESC:Events for Community Food Pantry in Tool
REFRESH-INTERVAL;VALUE=DURATION:PT1H
X-Robots-Tag:noindex
X-PUBLISHED-TTL:PT1H
BEGIN:VTIMEZONE
TZID:UTC
BEGIN:STANDARD
TZOFFSETFROM:+0000
TZOFFSETTO:+0000
TZNAME:UTC
DTSTART:20210101T000000
END:STANDARD
END:VTIMEZONE
BEGIN:VEVENT
DTSTART;VALUE=DATE:20221207
DTEND;VALUE=DATE:20221208
DTSTAMP:20260420T204927
CREATED:20220215T205119Z
LAST-MODIFIED:20220215T211512Z
UID:3059-1670371200-1670457599@foodpantryintool.org
SUMMARY:Board of Directors Meeting 2:00 p.m.
DESCRIPTION:
URL:https://foodpantryintool.org/event/board-of-directors-meeting-3/
END:VEVENT
BEGIN:VEVENT
DTSTART;VALUE=DATE:20221207
DTEND;VALUE=DATE:20221208
DTSTAMP:20260420T204927
CREATED:20220215T204809Z
LAST-MODIFIED:20240712T074105Z
UID:3057-1670371200-1670457599@foodpantryintool.org
SUMMARY:on 1:00 p.m.
DESCRIPTION:
URL:https://foodpantryintool.org/event/9/
LOCATION:First Baptist Church in Tool
END:VEVENT
BEGIN:VEVENT
DTSTART;VALUE=DATE:20221125
DTEND;VALUE=DATE:20221126
DTSTAMP:20260420T204927
CREATED:20220215T200838Z
LAST-MODIFIED:20220215T200838Z
UID:3018-1669334400-1669420799@foodpantryintool.org
SUMMARY:PANTRY CLOSED
DESCRIPTION:
URL:https://foodpantryintool.org/event/pantry-closed-4/
END:VEVENT
BEGIN:VEVENT
DTSTART;VALUE=DATE:20221124
DTEND;VALUE=DATE:20221125
DTSTAMP:20260420T204927
CREATED:20220809T062836Z
LAST-MODIFIED:20220809T062836Z
UID:3164-1669248000-1669334399@foodpantryintool.org
SUMMARY:PANTRY CLOSED
DESCRIPTION:
URL:https://foodpantryintool.org/event/pantry-closed-7/
END:VEVENT
BEGIN:VEVENT
DTSTART;VALUE=DATE:20221119
DTEND;VALUE=DATE:20221120
DTSTAMP:20260420T204927
CREATED:20221119T082122Z
LAST-MODIFIED:20221119T082122Z
UID:3384-1668816000-1668902399@foodpantryintool.org
SUMMARY:PANTRY OPEN 9:30am-12:30pm
DESCRIPTION:
URL:https://foodpantryintool.org/event/pantry-open-930am-1230pm-48/
END:VEVENT
BEGIN:VEVENT
DTSTART;VALUE=DATE:20221102
DTEND;VALUE=DATE:20221103
DTSTAMP:20260420T204927
CREATED:20220215T204554Z
LAST-MODIFIED:20240712T074115Z
UID:3055-1667347200-1667433599@foodpantryintool.org
SUMMARY:on 1:00 p.m.
DESCRIPTION:
URL:https://foodpantryintool.org/event/8/
LOCATION:Providence Baptist Church
END:VEVENT
BEGIN:VEVENT
DTSTART;VALUE=DATE:20221005
DTEND;VALUE=DATE:20221006
DTSTAMP:20260420T204927
CREATED:20220215T204350Z
LAST-MODIFIED:20240712T074123Z
UID:3053-1664928000-1665014399@foodpantryintool.org
SUMMARY:on 1:00 p.m.
DESCRIPTION:
URL:https://foodpantryintool.org/event/7/
LOCATION:St. Jude’s Catholic Church
END:VEVENT
BEGIN:VEVENT
DTSTART;VALUE=DATE:20220907
DTEND;VALUE=DATE:20220908
DTSTAMP:20260420T204927
CREATED:20220215T204157Z
LAST-MODIFIED:20240712T074131Z
UID:3051-1662508800-1662595199@foodpantryintool.org
SUMMARY:on 1:00 p.m.
DESCRIPTION:
URL:https://foodpantryintool.org/event/6/
LOCATION:Cedar Creek Lake United Methodist Church
END:VEVENT
BEGIN:VEVENT
DTSTART;VALUE=DATE:20220905
DTEND;VALUE=DATE:20220906
DTSTAMP:20260420T204927
CREATED:20220215T200704Z
LAST-MODIFIED:20220215T200704Z
UID:3015-1662336000-1662422399@foodpantryintool.org
SUMMARY:PANTRY CLOSED
DESCRIPTION:
URL:https://foodpantryintool.org/event/pantry-closed-3/
END:VEVENT
BEGIN:VEVENT
DTSTART;VALUE=DATE:20220803
DTEND;VALUE=DATE:20220804
DTSTAMP:20260420T204927
CREATED:20220215T203949Z
LAST-MODIFIED:20220215T210956Z
UID:3049-1659484800-1659571199@foodpantryintool.org
SUMMARY:Board of Directors Meeting 2:00 p.m.
DESCRIPTION:
URL:https://foodpantryintool.org/event/board-of-directors-meeting-2/
END:VEVENT
BEGIN:VEVENT
DTSTART;VALUE=DATE:20220803
DTEND;VALUE=DATE:20220804
DTSTAMP:20260420T204927
CREATED:20220215T203737Z
LAST-MODIFIED:20240712T074143Z
UID:3047-1659484800-1659571199@foodpantryintool.org
SUMMARY:on 1:00 p.m.
DESCRIPTION:
URL:https://foodpantryintool.org/event/5/
LOCATION:First Baptist Church in Tool
END:VEVENT
BEGIN:VEVENT
DTSTART;TZID=UTC:20220802T090000
DTEND;TZID=UTC:20220802T123000
DTSTAMP:20260420T204927
CREATED:20221119T103422Z
LAST-MODIFIED:20221119T103422Z
UID:3580-1659430800-1659443400@foodpantryintool.org
SUMMARY:PANTRY OPEN 9:00am-12:30pm
DESCRIPTION:
URL:https://foodpantryintool.org/event/pantry-open-900am-1230pm-13/
END:VEVENT
BEGIN:VEVENT
DTSTART;VALUE=DATE:20220706
DTEND;VALUE=DATE:20220707
DTSTAMP:20260420T204927
CREATED:20220215T203606Z
LAST-MODIFIED:20240712T074241Z
UID:3045-1657065600-1657151999@foodpantryintool.org
SUMMARY:on 1:00 p.m.
DESCRIPTION:
URL:https://foodpantryintool.org/event/4/
LOCATION:Providence Baptist Church
END:VEVENT
BEGIN:VEVENT
DTSTART;VALUE=DATE:20220704
DTEND;VALUE=DATE:20220705
DTSTAMP:20260420T204927
CREATED:20220215T200534Z
LAST-MODIFIED:20220215T200534Z
UID:3013-1656892800-1656979199@foodpantryintool.org
SUMMARY:PANTRY CLOSED
DESCRIPTION:
URL:https://foodpantryintool.org/event/pantry-closed-2/
END:VEVENT
BEGIN:VEVENT
DTSTART;VALUE=DATE:20220601
DTEND;VALUE=DATE:20220602
DTSTAMP:20260420T204927
CREATED:20220215T203045Z
LAST-MODIFIED:20240712T074250Z
UID:3041-1654041600-1654127999@foodpantryintool.org
SUMMARY:on 1:00 p.m.
DESCRIPTION:
URL:https://foodpantryintool.org/event/3/
LOCATION:St. Jude’s Catholic Church
END:VEVENT
BEGIN:VEVENT
DTSTART;VALUE=DATE:20220504
DTEND;VALUE=DATE:20220505
DTSTAMP:20260420T204927
CREATED:20220215T202910Z
LAST-MODIFIED:20240712T074257Z
UID:3038-1651622400-1651708799@foodpantryintool.org
SUMMARY:on 1:00 p.m.
DESCRIPTION:
URL:https://foodpantryintool.org/event/2/
LOCATION:Cedar Creek Lake United Methodist Church
END:VEVENT
BEGIN:VEVENT
DTSTART;VALUE=DATE:20220415
DTEND;VALUE=DATE:20220416
DTSTAMP:20260420T204927
CREATED:20220215T200207Z
LAST-MODIFIED:20220215T200207Z
UID:3011-1649980800-1650067199@foodpantryintool.org
SUMMARY:PANTRY CLOSED
DESCRIPTION:
URL:https://foodpantryintool.org/event/pantry-closed/
END:VEVENT
BEGIN:VEVENT
DTSTART;VALUE=DATE:20220406
DTEND;VALUE=DATE:20220407
DTSTAMP:20260420T204927
CREATED:20220215T202646Z
LAST-MODIFIED:20220215T210303Z
UID:3036-1649203200-1649289599@foodpantryintool.org
SUMMARY:Board of Directors Meeting 2:00 p.m.
DESCRIPTION:
URL:https://foodpantryintool.org/event/board-of-directors-meeting/
END:VEVENT
BEGIN:VEVENT
DTSTART;VALUE=DATE:20220406
DTEND;VALUE=DATE:20220407
DTSTAMP:20260420T204927
CREATED:20220215T202459Z
LAST-MODIFIED:20240712T074310Z
UID:3033-1649203200-1649289599@foodpantryintool.org
SUMMARY:on 1:00 p.m.
DESCRIPTION:
URL:https://foodpantryintool.org/event/on-100-p-m/
LOCATION:First Baptist Church in Tool
END:VEVENT
BEGIN:VEVENT
DTSTART;TZID=UTC:20220311T180000
DTEND;TZID=UTC:20220311T220000
DTSTAMP:20260420T204927
CREATED:20220215T202155Z
LAST-MODIFIED:20220215T202326Z
UID:3028-1647021600-1647036000@foodpantryintool.org
SUMMARY:Bingo/Karaoke Fundraiser
DESCRIPTION:CLICK HERE TO ORDER TICKETS:  https://www.tickettailor.com/events/triplenranchwinery/607915
URL:https://foodpantryintool.org/event/bingo-karaoke-fundraiser/
LOCATION:Triple N Ranch Winery
END:VEVENT
BEGIN:VEVENT
DTSTART;VALUE=DATE:20220302
DTEND;VALUE=DATE:20220303
DTSTAMP:20260420T204927
CREATED:20220215T201921Z
LAST-MODIFIED:20240712T074318Z
UID:3025-1646179200-1646265599@foodpantryintool.org
SUMMARY:on 1:00 p.m.
DESCRIPTION:
URL:https://foodpantryintool.org/event/on-100-p-m-3/
LOCATION:Providence Baptist Church
END:VEVENT
BEGIN:VEVENT
DTSTART;TZID=UTC:20220214T093000
DTEND;TZID=UTC:20220214T123000
DTSTAMP:20260420T204927
CREATED:20220215T193140Z
LAST-MODIFIED:20220215T193140Z
UID:2877-1644831000-1644841800@foodpantryintool.org
SUMMARY:PANTRY OPEN 9:30am-12:30pm
DESCRIPTION:
URL:https://foodpantryintool.org/event/pantry-open-930am-1230pm/2022-02-14/
END:VEVENT
END:VCALENDAR