BEGIN:VCALENDAR
VERSION:2.0
PRODID:-//Community Food Pantry in Tool - ECPv6.15.20//NONSGML v1.0//EN
CALSCALE:GREGORIAN
METHOD:PUBLISH
X-ORIGINAL-URL:https://foodpantryintool.org
X-WR-CALDESC:Events for Community Food Pantry in Tool
REFRESH-INTERVAL;VALUE=DURATION:PT1H
X-Robots-Tag:noindex
X-PUBLISHED-TTL:PT1H
BEGIN:VTIMEZONE
TZID:UTC
BEGIN:STANDARD
TZOFFSETFROM:+0000
TZOFFSETTO:+0000
TZNAME:UTC
DTSTART:20210101T000000
END:STANDARD
END:VTIMEZONE
BEGIN:VEVENT
DTSTART;VALUE=DATE:20221207
DTEND;VALUE=DATE:20221208
DTSTAMP:20260421T100611
CREATED:20220215T204809Z
LAST-MODIFIED:20240712T074105Z
UID:3057-1670371200-1670457599@foodpantryintool.org
SUMMARY:on 1:00 p.m.
DESCRIPTION:
URL:https://foodpantryintool.org/event/9/
LOCATION:First Baptist Church in Tool
END:VEVENT
BEGIN:VEVENT
DTSTART;VALUE=DATE:20220803
DTEND;VALUE=DATE:20220804
DTSTAMP:20260421T100611
CREATED:20220215T203737Z
LAST-MODIFIED:20240712T074143Z
UID:3047-1659484800-1659571199@foodpantryintool.org
SUMMARY:on 1:00 p.m.
DESCRIPTION:
URL:https://foodpantryintool.org/event/5/
LOCATION:First Baptist Church in Tool
END:VEVENT
BEGIN:VEVENT
DTSTART;VALUE=DATE:20220406
DTEND;VALUE=DATE:20220407
DTSTAMP:20260421T100611
CREATED:20220215T202459Z
LAST-MODIFIED:20240712T074310Z
UID:3033-1649203200-1649289599@foodpantryintool.org
SUMMARY:on 1:00 p.m.
DESCRIPTION:
URL:https://foodpantryintool.org/event/on-100-p-m/
LOCATION:First Baptist Church in Tool
END:VEVENT
END:VCALENDAR